BEGIN:VCALENDAR
VERSION:2.0
PRODID:-//eventon.com NONSGML v1.0//EN
CALSCALE:GREGORIAN
METHOD:PUBLISH
BEGIN:VEVENT
UID:69ebe650dfdb3
DTSTAMP:20260424T215320Z
DTSTART:20260424T180000Z
DTEND:20260424T215900Z
LOCATION:BFM (Bâtiment des Forces Motrices) 2 Place des Volontaires\,  1204 Genève
SUMMARY:Issa Doumbia｜Monsieur Doumbia
DESCRIPTION:Issa Doumbia fait son grand retour sur scène avec « Monsieu
 r Doumbia » au BFM de Genève le 24 avril 2026 La scène du BFM sera le 
 théâtre d&#8217;un événement très attendu le 23 mai 2024 avec le nouve
 au spectacle d&#8217;Issa Doumbia\,  sobrement intitulé &#8220;Monsieur Do
 umbia&#8221;. Réputé pour son humour décapant et[..]\nhttps://colormygen
 eva.ch/events/issa-doumbia%ef%bd%9cmonsieur-doumbia/
URL:https://colormygeneva.ch/events/issa-doumbia%ef%bd%9cmonsieur-doumbia/
END:VEVENT
END:VCALENDAR