BEGIN:VCALENDAR
VERSION:2.0
PRODID:-//eventon.com NONSGML v1.0//EN
CALSCALE:GREGORIAN
METHOD:PUBLISH
BEGIN:VEVENT
UID:69ed789e65e49
DTSTAMP:20260426T022950Z
DTSTART:20260426T170000Z
DTEND:20260426T215900Z
LOCATION:Arena Rte des Batailleux 3\,  1218 Le Grand-Saconnex
SUMMARY:Charlotte Cardinï½œFeel Good
DESCRIPTION:Le 26 avril 2026\,  vivez une expÃ©rience musicale inÃ©dite ave
 c Charlotte Cardin Ã  l&#8217;Arena de GenÃ¨ve. Connue mondialement pour so
 n authenticitÃ© saisissante et sa profondeur Ã©motionnelle\,  l&#8217;artis
 te canadienne vous plongera dans son univers unique et captivant. CouronnÃ©
 e Global Woman of the Year par Billboard en 2025\,  Charlotte Cardin enchaÃ
 ®ne les[..]\nhttps://colormygeneva.ch/events/charlotte-cardin%ef%bd%9cfeel-
 good/
URL:https://colormygeneva.ch/events/charlotte-cardin%ef%bd%9cfeel-good/
END:VEVENT
END:VCALENDAR