BEGIN:VCALENDAR
VERSION:2.0
PRODID:-//eventon.com NONSGML v1.0//EN
CALSCALE:GREGORIAN
METHOD:PUBLISH
BEGIN:VEVENT
UID:69e95cff54985
DTSTAMP:20260422T234255Z
DTSTART:20260423T173000Z
DTEND:20260422T220000Z
LOCATION:Scènes du Grütli
SUMMARY:Henry IV
DESCRIPTION:Ici\,  les luttes de pouvoir constituent une fresque politique 
 et humaine qui nous tend un miroir d’une rare acuité. Entre cour et bas-
 fonds\,  pouvoir et débauche\,  la pièce interroge légitimité\,  chaos 
 et quête d’identité. Sur un dispositif modulable\,  maquettes et marion
 nettes dialoguent avec projections contemporaines. Un théâtre épique\,  
 ancré dans[..]\nhttps://colormygeneva.ch/events/henry-iv/var/ri-2.l-L1
URL:https://colormygeneva.ch/events/henry-iv/var/ri-2.l-L1
END:VEVENT
END:VCALENDAR