BEGIN:VCALENDAR
VERSION:2.0
PRODID:-//eventon.com NONSGML v1.0//EN
CALSCALE:GREGORIAN
METHOD:PUBLISH
BEGIN:VEVENT
UID:69eaba825843b
DTSTAMP:20260424T003410Z
DTSTART:20260424T190000Z
DTEND:20260424T200000Z
LOCATION:Théâtre de Carouge 37 Rue Ancienne 1227 Carouge\,  Suisse
SUMMARY:SHAMROCK SESSIONS · 19h et 21h · Zoë Conway et Solistes GECA
DESCRIPTION:24 avril 2026 / Représentations à 19:00 et à 21:00 Suite au 
 succès phénoménal de sa dernière performance avec GECA et à la demande
  du public genevois\,  la violoniste et chanteuse Zoë Conway est de retour
  pour nous offrir un périple inoubliable au cœur des musiques folklorique
 s irlandaises ! Grâce[..]\nhttps://colormygeneva.ch/events/shamrock-sessio
 ns-%c2%b7-19h-et-21h-%c2%b7-zoe-conway-et-solistes-geca/var/ri-1.l-L1
URL:https://colormygeneva.ch/events/shamrock-sessions-%c2%b7-19h-et-21h-%c2%b7-zoe-conway-et-solistes-geca/var/ri-1.l-L1
END:VEVENT
END:VCALENDAR