BEGIN:VCALENDAR
VERSION:2.0
PRODID:-//eventon.com NONSGML v1.0//EN
CALSCALE:GREGORIAN
METHOD:PUBLISH
BEGIN:VEVENT
UID:69e811ce4fc43
DTSTAMP:20260422T000950Z
DTSTART:20260422T180000Z
DTEND:20260422T200000Z
LOCATION:Chat Noir Rue Vautier 13\,  1227 Carouge\,  Suisse.
SUMMARY:Et pendant ce chaos | LES TROUBADOURS DU CHAOS
DESCRIPTION:IMPRO THÉATRALE Une première impro démarre\,  et pendant ce 
 temps-là dans un train fantôme\,  et pendant ce temps-là dans une dimens
 ion parallèle de comédie musicale\,  et pendant ce temps-là dans une soi
 rée « Poney » sur un building… Tu l’as compris\,  dans ce tout nouve
 au concept signé Les Troubadours du[..]\nhttps://colormygeneva.ch/events/e
 t-pendant-ce-chaos-les-troubadours-du-chaos/var/ri-4.l-L1
URL:https://colormygeneva.ch/events/et-pendant-ce-chaos-les-troubadours-du-chaos/var/ri-4.l-L1
END:VEVENT
END:VCALENDAR