BEGIN:VCALENDAR
VERSION:2.0
PRODID:-//eventon.com NONSGML v1.0//EN
CALSCALE:GREGORIAN
METHOD:PUBLISH
BEGIN:VEVENT
UID:69e5b59808573
DTSTAMP:20260420T051152Z
DTSTART:20260421T173000Z
DTEND:20260421T184500Z
LOCATION:ThÃ©Ã¢tre Les Salons 6 Rue J.-F. Bartholoni â€“ 1204 GenÃ¨ve\,  GenÃ¨ve 1204
SUMMARY:IntÃ©grale Beethoven : les 16 quatuors Ã  cordes
DESCRIPTION:GenÃ¨ve\, Â du 20 au 25 avril 2026 Du 20 au 24 Ã  19h30 Le 25 Ã
   17h00 puis 20h00 &nbsp; ClassiCosyÂ est impatienteÂ dâ€™accueillir le cÃ©
 lÃ¨bre Quatuor Strada (PierreÂ Fouchenneret\, Â AyakoÂ Tanaka\,  Lise Berth
 aud et FranÃ§oisÂ Salque) pour une intÃ©grale-marathon des 16 quatuors Ã  c
 ordes de Beethoven. RÃ©partie sur sept concerts exceptionnels dans lâ€™Ã©cr
 in idÃ©al du ThÃ©Ã¢tre[..]\nhttps://colormygeneva.ch/events/integrale-beeth
 oven-les-16-quatuors-a-cordes/var/ri-2.l-L1
URL:https://colormygeneva.ch/events/integrale-beethoven-les-16-quatuors-a-cordes/var/ri-2.l-L1
END:VEVENT
END:VCALENDAR