BEGIN:VCALENDAR
VERSION:2.0
PRODID:-//eventon.com NONSGML v1.0//EN
CALSCALE:GREGORIAN
METHOD:PUBLISH
BEGIN:VEVENT
UID:69e95bd4f3c7f
DTSTAMP:20260422T233756Z
DTSTART:20260423T183000Z
DTEND:20260423T195000Z
LOCATION:Bibliothèque du Forum Meyrin Place des Cinq-continents 1 1217 Meyrin
SUMMARY:LE SEPTIÈME JOUR
DESCRIPTION:Le septième jour\,  il y en a qui se reposent\,  contemplant l
 e travail accompli. Pour d’autres\,  le farniente est un rêve\,  un hori
 zon qui sans cesse recule et se dérobe. Certain·es enfin\,  en ébullitio
 n permanente\,  sont tenaillé·es par l’envie de créer\,  de raconter l
 ’humaine intranquillité…\nhttps://colormygeneva.ch/events/le-septieme-
 jour/
URL:https://colormygeneva.ch/events/le-septieme-jour/
END:VEVENT
END:VCALENDAR