BEGIN:VCALENDAR
VERSION:2.0
PRODID:-//eventon.com NONSGML v1.0//EN
CALSCALE:GREGORIAN
METHOD:PUBLISH
BEGIN:VEVENT
UID:69e95be642ca3
DTSTAMP:20260422T233814Z
DTSTART:20260423T183000Z
DTEND:20260423T200000Z
LOCATION:Théâtre Forum Meyrin Pl. des Cinq-Continents 1\,  1217 Meyrin
SUMMARY:EN VERT ET CONTRE TOUS.TES
DESCRIPTION:Place à la création artistique! Le service de la culture de l
 a ville de Meyrin et TIGRE\,  association faîtière des compagnies indépe
 ndantes genevoises\,  ont lancé un appel à projets à destination des art
 istes et compagnies professionnelles œuvrant dans le champ du spectacle vi
 vant et implanté·es dans le canton de Genève.[..]\nhttps://colormygeneva
 .ch/events/en-vert-et-contre-tous-tes/
URL:https://colormygeneva.ch/events/en-vert-et-contre-tous-tes/
END:VEVENT
END:VCALENDAR