BEGIN:VCALENDAR
VERSION:2.0
PRODID:-//eventon.com NONSGML v1.0//EN
CALSCALE:GREGORIAN
METHOD:PUBLISH
BEGIN:VEVENT
UID:69e822e32ef26
DTSTAMP:20260422T012243Z
DTSTART:20260422T173000Z
DTEND:20260422T183000Z
LOCATION:ScÃ¨nes du GrÃ¼tli
SUMMARY:Patrimoine des histoires qui nâ€™existent quâ€™Ã  moitiÃ©
DESCRIPTION:Le quartier de Saint-Jean est le terrain de jeu dâ€™une visite 
 guidÃ©e pas comme les autres. Deux expertes du patrimoine visible et invisi
 ble vous emmÃ¨nent dans un parcours urbain insolite lÃ  oÃ¹ les archives cÃ
 ´toient les lÃ©gendes\,  oÃ¹ les tÃ©moignages viennent Ã©clairer les zones 
 dâ€™ombre. Fruit dâ€™un travail dâ€™enquÃªte et[..]\nhttps://colormygeneva.
 ch/events/patrimoine-des-histoires-qui-nexistent-qua-moitie/
URL:https://colormygeneva.ch/events/patrimoine-des-histoires-qui-nexistent-qua-moitie/
END:VEVENT
END:VCALENDAR