BEGIN:VCALENDAR
VERSION:2.0
PRODID:-//eventon.com NONSGML v1.0//EN
CALSCALE:GREGORIAN
METHOD:PUBLISH
BEGIN:VEVENT
UID:69e832a097a98
DTSTAMP:20260422T022952Z
DTSTART:20260424T173000Z
DTEND:20260424T183000Z
LOCATION:ScÃ¨nes du GrÃ¼tli
SUMMARY:Patrimoine des histoires qui nâ€™existent quâ€™Ã  moitiÃ©
DESCRIPTION:Le quartier de Saint-Jean est le terrain de jeu dâ€™une visite 
 guidÃ©e pas comme les autres. Deux expertes du patrimoine visible et invisi
 ble vous emmÃ¨nent dans un parcours urbain insolite lÃ  oÃ¹ les archives cÃ
 ´toient les lÃ©gendes\,  oÃ¹ les tÃ©moignages viennent Ã©clairer les zones 
 dâ€™ombre. Fruit dâ€™un travail dâ€™enquÃªte et[..]\nhttps://colormygeneva.
 ch/events/patrimoine-des-histoires-qui-nexistent-qua-moitie/var/ri-1.l-L1
URL:https://colormygeneva.ch/events/patrimoine-des-histoires-qui-nexistent-qua-moitie/var/ri-1.l-L1
END:VEVENT
END:VCALENDAR