BEGIN:VCALENDAR
VERSION:2.0
PRODID:-//eventon.com NONSGML v1.0//EN
CALSCALE:GREGORIAN
METHOD:PUBLISH
BEGIN:VEVENT
UID:69ec1cc21067c
DTSTAMP:20260425T014538Z
DTSTART:20260425T183000Z
DTEND:20260425T213000Z
LOCATION:Uptown Geneva 2 rue de la Servette\,  1201 Genève
SUMMARY:Leylet hob spectacle international danse orientale
DESCRIPTION:Plongez dans l’univers envoûtant des Mille et Une Nuits à G
 enève !Une soirée d’exception vous attend : un spectacle grandiose po
 rté par les stars internationales de la danse orientale\,  entre élégan
 ce\,  émotion et éclats de lumière…Strass\,  glamour et magie oriental
 e — une nuit à ne pas manquer. Festival International de Danse Oriental
 e — Genève25.04 — Uptown[..]\nhttps://colormygeneva.ch/events/leylet
 -hob-spectacle-international-danse-orientale/
URL:https://colormygeneva.ch/events/leylet-hob-spectacle-international-danse-orientale/
END:VEVENT
END:VCALENDAR