BEGIN:VCALENDAR
VERSION:2.0
PRODID:-//eventon.com NONSGML v1.0//EN
CALSCALE:GREGORIAN
METHOD:PUBLISH
BEGIN:VEVENT
UID:69e64e92a8bb5
DTSTAMP:20260420T160434Z
DTSTART:20260305T093000Z
DTEND:20260305T225900Z
LOCATION:Carouge Carouge\,  1227
SUMMARY:Les Mystères en chocolat - Les animaux Fantastiques
DESCRIPTION:Offre spéciale Pâques: profitez de 10 CHF de rabais sur les M
 ystères en chocolat\,  uniquement disponible 4 avril 2026. Vivez l’avent
 ure magique des Mystères en Chocolat – Les Animaux Fantastiques à Carou
 ge ! Partez à la découverte des ruelles historiques et colorées de la vi
 lle en résolvant des énigmes et[..]\nhttps://colormygeneva.ch/events/les-
 mysteres-en-chocolat-les-animaux-fantastiques/
URL:https://colormygeneva.ch/events/les-mysteres-en-chocolat-les-animaux-fantastiques/
END:VEVENT
END:VCALENDAR