BEGIN:VCALENDAR
VERSION:2.0
PRODID:-//eventon.com NONSGML v1.0//EN
CALSCALE:GREGORIAN
METHOD:PUBLISH
BEGIN:VEVENT
UID:69ec1c0ed8ea0
DTSTAMP:20260425T014238Z
DTSTART:20260425T190000Z
DTEND:20260425T215900Z
LOCATION:Undertown Place des Cinq Continents 1\,  1217 Meyrin
SUMMARY:RANCOEUR   RÉSILIENCE   CLIVAGE
DESCRIPTION:L&#8217;Undertown présente :Le renouveau de la scène Oi!Ranco
 eur (Cold Oi! Nancy)Formé en 2020 à Nancy\,  Rancœur s’est rapidement 
 imposé comme l’un des groupes les plus marquants de la scène Oi! franç
 aise contemporaine\,  mêlant avec audace punk\,  post-punk et coldwave pou
 r créer un son puissant\,  sombre et intense.Après une première démo[..
 ]\nhttps://colormygeneva.ch/events/rancoeur-resilience-clivage/
URL:https://colormygeneva.ch/events/rancoeur-resilience-clivage/
END:VEVENT
END:VCALENDAR