BEGIN:VCALENDAR
VERSION:2.0
PRODID:-//eventon.com NONSGML v1.0//EN
CALSCALE:GREGORIAN
METHOD:PUBLISH
BEGIN:VEVENT
UID:69e589b7ef936
DTSTAMP:20260420T020439Z
DTSTART:20260420T163000Z
DTEND:20260420T215900Z
LOCATION:Cinélux Bd de Saint-Georges 8\,  1205 Genève
SUMMARY:Séance spéciale : I SHALL NOT HATE\,  un médecin pour la paix
DESCRIPTION:Séance spéciale lundi 20 avril à 18h30 suivie d’une discus
 sion en présence du protagoniste le médecin palestinien Izzeldin Abuelais
 h. I Shall Not Hate est un puissant témoignage de tolérance\,  de courage
 \,  d’espoir et de résilience de la part d’un homme dont le message de
  réconciliation n’a jamais été aussi urgent[..]\nhttps://colormygeneva
 .ch/events/seance-speciale-i-shall-not-hate-un-medecin-pour-la-paix/
URL:https://colormygeneva.ch/events/seance-speciale-i-shall-not-hate-un-medecin-pour-la-paix/
END:VEVENT
END:VCALENDAR