BEGIN:VCALENDAR
VERSION:2.0
PRODID:-//eventon.com NONSGML v1.0//EN
CALSCALE:GREGORIAN
METHOD:PUBLISH
BEGIN:VEVENT
UID:69e7d88da04b1
DTSTAMP:20260421T200533Z
DTSTART:20260421T180000Z
DTEND:20260421T193000Z
LOCATION:Les Amis musiquethéâtre Place du Temple 8\,  Genève\,  Carouge 1227\,  Suisse
SUMMARY:46 RUE DE BERNE
DESCRIPTION:Adaptation et mise en scène\,  Françoise Courvoisier Avec Mar
 tine Schambacher et Françoise Courvoisier. Assistanat à la mise en scène
 \,  Léa Déchamboux. Scénographie\,  Natacha Jaquerod Lumière\,  Rinaldo
  Del Boca. Son\,  Nicolas Le Roy. © Anouk Schneider Au 46 rue de Berne\, 
  dans la cuisine de Grisélidis Réal\,  la légendaire peintre\,  écrivai
 ne et[..]\nhttps://colormygeneva.ch/events/46-rue-de-berne/var/ri-1.l-L1
URL:https://colormygeneva.ch/events/46-rue-de-berne/var/ri-1.l-L1
END:VEVENT
END:VCALENDAR