BEGIN:VCALENDAR
VERSION:2.0
PRODID:-//eventon.com NONSGML v1.0//EN
CALSCALE:GREGORIAN
METHOD:PUBLISH
BEGIN:VEVENT
UID:69e984f249853
DTSTAMP:20260423T023322Z
DTSTART:20260423T183000Z
DTEND:20260423T215900Z
LOCATION:Cinélux Bd de Saint-Georges 8\,  1205 Genève
SUMMARY:Première : IMIHIGO – LE SERMENT RWANDAIS de Shyaka Kagame
DESCRIPTION:Première de IMIHIGO – LE SERMENT RWANDAIS jeudi 23 avril à 
 20h30 en présence du réalisateur Shyaka Kagame Dans un Rwanda en plein re
 nouveau sociétal\nhttps://colormygeneva.ch/events/premiere-imihigo-le-ser
 ment-rwandais-de-shyaka-kagame/
URL:https://colormygeneva.ch/events/premiere-imihigo-le-serment-rwandais-de-shyaka-kagame/
END:VEVENT
END:VCALENDAR