BEGIN:VCALENDAR
VERSION:2.0
PRODID:-//eventon.com NONSGML v1.0//EN
CALSCALE:GREGORIAN
METHOD:PUBLISH
BEGIN:VEVENT
UID:69e9343241d42
DTSTAMP:20260422T204850Z
DTSTART:20260422T170000Z
DTEND:20260422T215900Z
LOCATION:La Nativa 5 rue Marguerite-Dellenbach\,  1205 Genève\,  Suisse
SUMMARY:Pub Quiz en équipe – Quiz de culture générale 🍻
DESCRIPTION:La Nativa et Robin te proposent une&nbsp;soirée Pub Quiz&nbsp;
 aussi fun que pétillante\,  idéale pour te challenger\,  rire et passer u
 n vrai bon moment en équipe. Entre amis\,  en famille ou même pour rencon
 trer de nouvelles personnes\,  viens tester ta culture générale dans une 
 ambiance conviviale et décontractée\,  un verre à[..]\nhttps://colormyge
 neva.ch/events/pub-quiz-en-equipe-quiz-de-culture-generale-%f0%9f%8d%bb/
URL:https://colormygeneva.ch/events/pub-quiz-en-equipe-quiz-de-culture-generale-%f0%9f%8d%bb/
END:VEVENT
END:VCALENDAR