BEGIN:VCALENDAR
VERSION:2.0
PRODID:-//eventon.com NONSGML v1.0//EN
CALSCALE:GREGORIAN
METHOD:PUBLISH
BEGIN:VEVENT
UID:69e7cbbae50d1
DTSTAMP:20260421T191050Z
DTSTART:20260421T180000Z
DTEND:20260421T194000Z
LOCATION:Scène Caecilia Rue Antoine-Carteret 23\,  Genève 1202
SUMMARY:Dr. Jekyll and Lady Hyde
DESCRIPTION:Avec Dr Jekyll et Lady Hyde\,  Philippe Cohen explore l’oeuvr
 e mythique de Stevenson en suivant fidèlement le fil de l’intrigue mais 
 en explosant les propositions et questions posées par les limites de la re
 cherche scientifique\,  l’éthique\,  les normes&#8230;Humour débridé m
 ais fidélité littéraire construisent un spectacle provoquant\,  ironique
  et résolument contemporain.[..]\nhttps://colormygeneva.ch/events/dr-jekyl
 l-and-lady-hyde/var/ri-1.l-L1
URL:https://colormygeneva.ch/events/dr-jekyll-and-lady-hyde/var/ri-1.l-L1
END:VEVENT
END:VCALENDAR