BEGIN:VCALENDAR
VERSION:2.0
PRODID:-//eventon.com NONSGML v1.0//EN
CALSCALE:GREGORIAN
METHOD:PUBLISH
BEGIN:VEVENT
UID:69ed8b9a56e19
DTSTAMP:20260426T035050Z
DTSTART:20260429T170000Z
DTEND:20260429T184500Z
LOCATION:Théâtre Alchimic avenue Industrielle 10\,  Carouge 1227\,  Suisse
SUMMARY:LAPIN LAPIN
DESCRIPTION:LAPIN LAPIN &#8211; de Coline Serreau du 23 avril au 13 mai 202
 6 Lapin Lapin est une comédie qui met en scène une famille nombreuse\,  a
 ussi excentrique qu’attachante\,  vivant dans une extrême pauvreté. Né
 anmoins\,  elle cultive une joie de vivre contagieuse. Le thème de cette p
 ièce est la précarité\,  à[..]\nhttps://colormygeneva.ch/events/lapin-l
 apin/var/ri-5.l-L1
URL:https://colormygeneva.ch/events/lapin-lapin/var/ri-5.l-L1
END:VEVENT
END:VCALENDAR