BEGIN:VCALENDAR
VERSION:2.0
PRODID:-//eventon.com NONSGML v1.0//EN
CALSCALE:GREGORIAN
METHOD:PUBLISH
BEGIN:VEVENT
UID:69ec1d2fb065c
DTSTAMP:20260425T014727Z
DTSTART:20260425T190000Z
DTEND:20260425T215900Z
LOCATION:Chat Noir Rue Vautier 13\,  1227 Carouge\,  Suisse.
SUMMARY:ANAÏS MVA | LIVE
DESCRIPTION:Jeune autrice-compositrice-interprète de 23 ans formée au con
 servatoire\,  ANAÏS MVA a déjà conquis de nombreux fans\,  avec ses chan
 sons aux thématiques douces-amères (santé mentale\,  troubles du comport
 ement alimentaire\,  addiction\, …) enrobées de textures pop. Depuis ses
  débuts\,  elle invite ses fans dans son processus créatif en partageant 
 sur TikTok des extraits[..]\nhttps://colormygeneva.ch/events/anais-mva-live
 /
URL:https://colormygeneva.ch/events/anais-mva-live/
END:VEVENT
END:VCALENDAR